BEGIN:VCALENDAR
VERSION:2.0
PRODID:icalendar-ruby
CALSCALE:GREGORIAN
METHOD:PUBLISH
BEGIN:VEVENT
DTSTAMP:20260422T195008Z
UID:8-220294@firstreformeducc.org
DTSTART:20261025T150000Z
DTEND:20261026T160000Z
CLASS:PUBLIC
CREATED:20260422T143757
DESCRIPTION:
LAST-MODIFIED:20260422T143757
LOCATION:513 W Front St\, Burlington NC 27215
SUMMARY:Sunday Worship
URL;VALUE=URI:https://firstreformeducc.org/events/sunday-worship/2026-10-25
END:VEVENT
END:VCALENDAR
