BEGIN:VCALENDAR
VERSION:2.0
PRODID:icalendar-ruby
CALSCALE:GREGORIAN
METHOD:PUBLISH
BEGIN:VEVENT
DTSTAMP:20260422T181129Z
UID:8-220246@firstreformeducc.org
DTSTART:20261018T150000Z
DTEND:20261019T160000Z
CLASS:PUBLIC
CREATED:20260422T114327
DESCRIPTION:
LAST-MODIFIED:20260422T114327
LOCATION:513 W Front St\, Burlington NC 27215
SUMMARY:Sunday Worship
URL;VALUE=URI:https://firstreformeducc.org/events/sunday-worship/2026-10-18
END:VEVENT
END:VCALENDAR
